BEGIN:VCALENDAR
VERSION:2.0
PRODID:-//Saint Joseph Columbia - ECPv6.15.13.1//NONSGML v1.0//EN
CALSCALE:GREGORIAN
METHOD:PUBLISH
X-WR-CALNAME:Saint Joseph Columbia
X-ORIGINAL-URL:https://www.saintjosephcolumbia.org
X-WR-CALDESC:Events for Saint Joseph Columbia
REFRESH-INTERVAL;VALUE=DURATION:PT1H
X-Robots-Tag:noindex
X-PUBLISHED-TTL:PT1H
BEGIN:VTIMEZONE
TZID:UTC
BEGIN:STANDARD
TZOFFSETFROM:+0000
TZOFFSETTO:+0000
TZNAME:UTC
DTSTART:20220101T000000
END:STANDARD
END:VTIMEZONE
BEGIN:VEVENT
DTSTART;TZID=UTC:20230218T183000
DTEND;TZID=UTC:20230218T203000
DTSTAMP:20260423T213740
CREATED:20230204T152641Z
LAST-MODIFIED:20230204T152753Z
UID:438-1676745000-1676752200@www.saintjosephcolumbia.org
SUMMARY:Mardi Gras Dance Party
DESCRIPTION:Open to all parishioners at St. Joseph and Sts. Peter & Paul.\nSaturday\, February 18\, 6:30pm – 8:30pm \nFamilies $25\nAdults $10\nTeens $5\nKids under $12 are free \nCome eat\, drink\, and let the good times roll before Lent starts!\nAll proceeds benefit the World Youth Day pilgrims.
URL:https://www.saintjosephcolumbia.org/event/mardi-gras-dance-party/
LOCATION:Saints Peter & Paul
CATEGORIES:Fundraiser
END:VEVENT
BEGIN:VEVENT
DTSTART;TZID=UTC:20230129T103000
DTEND;TZID=UTC:20230129T103000
DTSTAMP:20260423T213740
CREATED:20230103T025907Z
LAST-MODIFIED:20230103T025907Z
UID:367-1674988200-1674988200@www.saintjosephcolumbia.org
SUMMARY:CCD
DESCRIPTION:CCD meets from 10:30-11:30am
URL:https://www.saintjosephcolumbia.org/event/ccd-4/
LOCATION:St. Joseph Parish Hall
CATEGORIES:CCD
END:VEVENT
BEGIN:VEVENT
DTSTART;TZID=UTC:20230122T103000
DTEND;TZID=UTC:20230122T113000
DTSTAMP:20260423T213740
CREATED:20230103T025451Z
LAST-MODIFIED:20230103T025451Z
UID:360-1674383400-1674387000@www.saintjosephcolumbia.org
SUMMARY:CCD
DESCRIPTION:CCD meets from 10:30-11:30
URL:https://www.saintjosephcolumbia.org/event/ccd-3/
LOCATION:St. Joseph Parish Hall
CATEGORIES:CCD
END:VEVENT
BEGIN:VEVENT
DTSTART;TZID=UTC:20230115T103000
DTEND;TZID=UTC:20230115T113000
DTSTAMP:20260423T213740
CREATED:20230103T025345Z
LAST-MODIFIED:20230103T025520Z
UID:358-1673778600-1673782200@www.saintjosephcolumbia.org
SUMMARY:CCD
DESCRIPTION:CCD meets from 10:30-11:30
URL:https://www.saintjosephcolumbia.org/event/ccd-2/
LOCATION:St. Joseph Parish Hall
CATEGORIES:CCD
END:VEVENT
BEGIN:VEVENT
DTSTART;TZID=UTC:20230114T183000
DTEND;TZID=UTC:20230114T210000
DTSTAMP:20260423T213740
CREATED:20230103T005731Z
LAST-MODIFIED:20230103T025723Z
UID:346-1673721000-1673730000@www.saintjosephcolumbia.org
SUMMARY:Spaghetti Dinner Fundraiser for WYD kids
DESCRIPTION:The World Youth Day kids from St. Joseph and Saints Peter & Paul are hosting a spaghetti dinner fundraiser on Saturday\, January 14th at 6:30pm at St. Joseph. All are invited! Enjoy spaghetti and fresh bread\, music\, and pies for dessert. Enter a pie for the pie baking contests and get a chance to win $25! (Youth and adults may enter). Make a donation for the dinner\, and all proceeds go directly to the youth going to Portugal this summer for World Youth Day with Pope Francis! Get your pie contest entry form here.
URL:https://www.saintjosephcolumbia.org/event/spaghetti-dinner-fundraiser-for-wyd-kids/
LOCATION:St. Joseph Parish Hall
CATEGORIES:Dinner,Fundraiser
END:VEVENT
BEGIN:VEVENT
DTSTART;TZID=UTC:20230108T103000
DTEND;TZID=UTC:20230108T113000
DTSTAMP:20260423T213740
CREATED:20230103T010355Z
LAST-MODIFIED:20230103T025423Z
UID:349-1673173800-1673177400@www.saintjosephcolumbia.org
SUMMARY:CCD
DESCRIPTION:CCD meets from 10:30-11:30
URL:https://www.saintjosephcolumbia.org/event/ccd/
LOCATION:St. Joseph Parish Hall
CATEGORIES:CCD
END:VEVENT
END:VCALENDAR