BEGIN:VCALENDAR
VERSION:2.0
PRODID:-//Saint Joseph Columbia - ECPv6.15.13.1//NONSGML v1.0//EN
CALSCALE:GREGORIAN
METHOD:PUBLISH
X-ORIGINAL-URL:https://www.saintjosephcolumbia.org
X-WR-CALDESC:Events for Saint Joseph Columbia
REFRESH-INTERVAL;VALUE=DURATION:PT1H
X-Robots-Tag:noindex
X-PUBLISHED-TTL:PT1H
BEGIN:VTIMEZONE
TZID:UTC
BEGIN:STANDARD
TZOFFSETFROM:+0000
TZOFFSETTO:+0000
TZNAME:UTC
DTSTART:20220101T000000
END:STANDARD
END:VTIMEZONE
BEGIN:VEVENT
DTSTART;TZID=UTC:20251024T183000
DTEND;TZID=UTC:20251024T200000
DTSTAMP:20260423T155704
CREATED:20251002T014502Z
LAST-MODIFIED:20251002T014502Z
UID:700-1761330600-1761336000@www.saintjosephcolumbia.org
SUMMARY:Youth Trunk-or-Treat and Fall Fest
DESCRIPTION:Catholic Youth Group will meet at Sts. Peter & Paul this month for a trunk-or-treat and fall festival for kids of all ages. 6:30-8:00pm
URL:https://www.saintjosephcolumbia.org/event/youth-trunk-or-treat-and-fall-fest/
LOCATION:Saints Peter & Paul
CATEGORIES:CCD
END:VEVENT
BEGIN:VEVENT
DTSTART;TZID=UTC:20251009T180000
DTEND;TZID=UTC:20251009T203000
DTSTAMP:20260423T155704
CREATED:20251002T013845Z
LAST-MODIFIED:20251002T013845Z
UID:693-1760032800-1760041800@www.saintjosephcolumbia.org
SUMMARY:Knights of Columbus Roundtable
DESCRIPTION:Come eat chicken parmesan and get to know your fellow parishioners. The K of C roundtable is open to all men of the parish. Dinner is at 6:00pm\, followed by a meeting. You don’t have to be a K of C member to come!
URL:https://www.saintjosephcolumbia.org/event/knights-of-columbus-roundtable/
LOCATION:St. Joseph Parish Hall
CATEGORIES:Knights of Columbus
END:VEVENT
BEGIN:VEVENT
DTSTART;TZID=UTC:20251009T093000
DTEND;TZID=UTC:20251009T120000
DTSTAMP:20260423T155704
CREATED:20251002T014255Z
LAST-MODIFIED:20251002T014255Z
UID:697-1760002200-1760011200@www.saintjosephcolumbia.org
SUMMARY:St. Joseph Homeschool Group
DESCRIPTION:The homeschool group will meet at 9:30am in the Parish Hall. The theme of the day is Saints. See you then!
URL:https://www.saintjosephcolumbia.org/event/st-joseph-homeschool-group/
LOCATION:St. Joseph Parish Hall
CATEGORIES:Fellowship
END:VEVENT
BEGIN:VEVENT
DTSTART;TZID=UTC:20251005T103000
DTEND;TZID=UTC:20251005T110000
DTSTAMP:20260423T155704
CREATED:20251002T014041Z
LAST-MODIFIED:20251002T014041Z
UID:695-1759660200-1759662000@www.saintjosephcolumbia.org
SUMMARY:Rosary After Mass
DESCRIPTION:To celebrate the Feast of Our Lady of the Rosary on October 7\, CCD classes will pray the rosary after Mass during class time.
URL:https://www.saintjosephcolumbia.org/event/rosary-after-mass/
LOCATION:St. Joseph Church
CATEGORIES:CCD
END:VEVENT
BEGIN:VEVENT
DTSTART;TZID=UTC:20240406T180000
DTEND;TZID=UTC:20240406T203000
DTSTAMP:20260423T155704
CREATED:20240309T012132Z
LAST-MODIFIED:20240309T012132Z
UID:634-1712426400-1712435400@www.saintjosephcolumbia.org
SUMMARY:Spaghetti Dinner Fundraiser
DESCRIPTION:Come eat spaghetti for a good cause! We’re raising money for an Eagle Scout project for Marie Kenney. Enjoy a wonderful meal and make a donation to help raise Marie raise the funds she needs to beautify Camp Wakeham.
URL:https://www.saintjosephcolumbia.org/event/spaghetti-dinner-fundraiser/
LOCATION:St. Joseph Church
CATEGORIES:Fundraiser
END:VEVENT
BEGIN:VEVENT
DTSTART;TZID=UTC:20240404T180000
DTEND;TZID=UTC:20240404T200000
DTSTAMP:20260423T155704
CREATED:20240309T012237Z
LAST-MODIFIED:20240309T012237Z
UID:637-1712253600-1712260800@www.saintjosephcolumbia.org
SUMMARY:April Knights of Columbus/Ladies Auxilliary
DESCRIPTION:Come for dinner at 6pm and a meeting at 7pm.
URL:https://www.saintjosephcolumbia.org/event/april-knights-of-columbus-ladies-auxilliary/
CATEGORIES:Knights of Columbus,Ladies Auxilary
END:VEVENT
BEGIN:VEVENT
DTSTART;TZID=UTC:20240317T110000
DTEND;TZID=UTC:20240317T150000
DTSTAMP:20260423T155704
CREATED:20240209T010803Z
LAST-MODIFIED:20240309T011424Z
UID:630-1710673200-1710687600@www.saintjosephcolumbia.org
SUMMARY:Anniversary Mass and Reception
DESCRIPTION:Join us at 11am for the culmination of our 140th anniversary Jubilee Year.\n(Note the time for Mass is at 11am\, not the usual 9am)\nA potluck reception will follow. Bring a side dish or dessert to share.\nPlease try to RSVP by March 3rd so we can get a rough number for food and seating. \n  \n  \n 
URL:https://www.saintjosephcolumbia.org/event/anniversary-mass-and-reception/
CATEGORIES:Anniversary
END:VEVENT
BEGIN:VEVENT
DTSTART;TZID=UTC:20240310T090000
DTEND;TZID=UTC:20240310T120000
DTSTAMP:20260423T155704
CREATED:20240301T012241Z
LAST-MODIFIED:20240309T012503Z
UID:639-1710061200-1710072000@www.saintjosephcolumbia.org
SUMMARY:K of C Clean Up Day
DESCRIPTION:Help us get ready for the Bishop by coming to the clean up day at 9am. We’ll be getting things fixed up around the outside of the church.
URL:https://www.saintjosephcolumbia.org/event/k-of-c-clean-up-day/
CATEGORIES:Anniversary,Knights of Columbus,Ladies Auxilary
END:VEVENT
BEGIN:VEVENT
DTSTART;TZID=UTC:20240307T180000
DTEND;TZID=UTC:20240307T200000
DTSTAMP:20260423T155704
CREATED:20240309T011747Z
LAST-MODIFIED:20240309T011747Z
UID:632-1709834400-1709841600@www.saintjosephcolumbia.org
SUMMARY:March Knights of Columbus/Ladies Auxilliary
DESCRIPTION:Dinner at 6pm\, Meeting at 7:00pm
URL:https://www.saintjosephcolumbia.org/event/march-knights-of-columbus-ladies-auxilliary/
LOCATION:St. Joseph Parish Hall
CATEGORIES:Knights of Columbus
END:VEVENT
BEGIN:VEVENT
DTSTART;VALUE=DATE:20240303
DTEND;VALUE=DATE:20240304
DTSTAMP:20260423T155704
CREATED:20240301T010659Z
LAST-MODIFIED:20240309T010750Z
UID:628-1709424000-1709510399@www.saintjosephcolumbia.org
SUMMARY:Feast Day of Saint Katharine Drexel
DESCRIPTION:It’s the Feast Day of one of our Patron Saints!
URL:https://www.saintjosephcolumbia.org/event/feast-day-of-saint-katharine-drexel/
LOCATION:St. Joseph Church
CATEGORIES:Anniversary
END:VEVENT
BEGIN:VEVENT
DTSTART;TZID=UTC:20240225T120000
DTEND;TZID=UTC:20240225T130000
DTSTAMP:20260423T155704
CREATED:20240209T010428Z
LAST-MODIFIED:20240309T010630Z
UID:626-1708862400-1708866000@www.saintjosephcolumbia.org
SUMMARY:Anniversary Concert with Longwood University
DESCRIPTION:Join us for a music concert at noon given by Longwood University School of Music. Hear songs of joy and inspiration as we approach the end of our jubilee year. Noon in St. Joseph Church
URL:https://www.saintjosephcolumbia.org/event/anniversary-concert-with-longwood-university/
LOCATION:St. Joseph Church
CATEGORIES:Anniversary
END:VEVENT
BEGIN:VEVENT
DTSTART;TZID=UTC:20231217T100000
DTEND;TZID=UTC:20231217T113000
DTSTAMP:20260423T155704
CREATED:20231030T235754Z
LAST-MODIFIED:20231030T235754Z
UID:600-1702807200-1702812600@www.saintjosephcolumbia.org
SUMMARY:Christmas Brunch and CCD Presentation
DESCRIPTION:Our favorit yearly parish potluck brunch and CCD event. Bring a dish to share and join together to celebrate the upcoming Nativity of our Lord. Feasting begins immediately after the 9am Mass.
URL:https://www.saintjosephcolumbia.org/event/christmas-brunch-and-ccd-presentation/
LOCATION:St. Joseph Parish Hall
CATEGORIES:Fellowship
END:VEVENT
BEGIN:VEVENT
DTSTART;TZID=UTC:20231210T140000
DTEND;TZID=UTC:20231210T153000
DTSTAMP:20260423T155704
CREATED:20231030T235421Z
LAST-MODIFIED:20231030T235421Z
UID:598-1702216800-1702222200@www.saintjosephcolumbia.org
SUMMARY:Joint Parish Lessons & Carols
DESCRIPTION:Each year our two parishes join together in the Christmas spirit as we host a traditional Lessons & Carols event. Come with the family to Saints Peter & Paul for singing\, feasting\, and fellowship.
URL:https://www.saintjosephcolumbia.org/event/joint-parish-lessons-carols/
LOCATION:Saints Peter & Paul
CATEGORIES:Fellowship
END:VEVENT
BEGIN:VEVENT
DTSTART;TZID=UTC:20231209T163000
DTEND;TZID=UTC:20231209T210000
DTSTAMP:20260423T155704
CREATED:20231030T235111Z
LAST-MODIFIED:20231030T235111Z
UID:594-1702139400-1702155600@www.saintjosephcolumbia.org
SUMMARY:Our Lady of Guadalupe Celebration + 140th Anniversary
DESCRIPTION:Our yearly Our Lady of Guadalupe celebration. This year the 140 anniversary committee is joining with the St. Joseph Hispanic community to help make this the biggest celebration yet! Gather for the rosary at 4:30pm\, followed by Mass at 5pm and then a marvelous feast of traditional foods. Join us on this Feast of Juan Diego as we honor Our Lady of Guadalupe\, Patroness of the Americas.
URL:https://www.saintjosephcolumbia.org/event/our-lady-of-guadalupe-celebration-140th-anniversary/
LOCATION:St. Joseph Parish Hall
CATEGORIES:Anniversary,Mass
END:VEVENT
BEGIN:VEVENT
DTSTART;TZID=UTC:20231208T080000
DTEND;TZID=UTC:20231208T170000
DTSTAMP:20260423T155704
CREATED:20231030T235153Z
LAST-MODIFIED:20231030T235153Z
UID:596-1702022400-1702054800@www.saintjosephcolumbia.org
SUMMARY:Solemnity of the Immaculate Conception
DESCRIPTION:On this Holy Day of Obligation\, Mass will be at 9am.
URL:https://www.saintjosephcolumbia.org/event/solemnity-of-the-immaculate-conception/
LOCATION:St. Joseph Church
CATEGORIES:Mass
END:VEVENT
BEGIN:VEVENT
DTSTART;TZID=UTC:20231207T180000
DTEND;TZID=UTC:20231207T200000
DTSTAMP:20260423T155704
CREATED:20231030T234656Z
LAST-MODIFIED:20231030T234656Z
UID:592-1701972000-1701979200@www.saintjosephcolumbia.org
SUMMARY:December Roundtable
DESCRIPTION:The December meeting of the Knights of Columbus Roundtable and Ladies Auxiliary. Come for dinner at 6pm\, followed by a meeting at 7pm.
URL:https://www.saintjosephcolumbia.org/event/december-roundtable/
LOCATION:St. Joseph Parish Hall
CATEGORIES:Knights of Columbus
END:VEVENT
BEGIN:VEVENT
DTSTART;TZID=UTC:20231126T090000
DTEND;TZID=UTC:20231126T103000
DTSTAMP:20260423T155704
CREATED:20231030T234326Z
LAST-MODIFIED:20231030T234326Z
UID:588-1700989200-1700994600@www.saintjosephcolumbia.org
SUMMARY:No CCD
DESCRIPTION:Due to the Thanksgiving Holiday\, there will be no CCD this Sunday following the 9am Mass
URL:https://www.saintjosephcolumbia.org/event/no-ccd/
LOCATION:St. Joseph Church
CATEGORIES:CCD
END:VEVENT
BEGIN:VEVENT
DTSTART;TZID=UTC:20231118T090000
DTEND;TZID=UTC:20231118T120000
DTSTAMP:20260423T155704
CREATED:20231030T234527Z
LAST-MODIFIED:20231030T234527Z
UID:590-1700298000-1700308800@www.saintjosephcolumbia.org
SUMMARY:Fall Clean Up Day
DESCRIPTION:The Knights of Columbus is holding its Fall Cleanup Day today. Come dressed and bring tools to help with small tasks around the church and yard — raking\, weeding\, etc. Thank you for all your help!
URL:https://www.saintjosephcolumbia.org/event/fall-clean-up-day/
LOCATION:St. Joseph Parish Hall
CATEGORIES:Knights of Columbus
END:VEVENT
BEGIN:VEVENT
DTSTART;TZID=UTC:20231105T103000
DTEND;TZID=UTC:20231105T113000
DTSTAMP:20260423T155704
CREATED:20231030T233550Z
LAST-MODIFIED:20231030T233550Z
UID:577-1699180200-1699183800@www.saintjosephcolumbia.org
SUMMARY:!40th Anniversary: Camp Wakeham
DESCRIPTION:We are visiting the Camp Wakeham cemetery to pray for the souls of the faithful departed during this Octave of All Souls.\nWear a comfortable pair of shoes and join us as we pray the rosary for the Wakeham family and friends who founded St. Joseph.
URL:https://www.saintjosephcolumbia.org/event/40th-anniversary-camp-wakeham/
LOCATION:Camp Wakeham\, Columbia
CATEGORIES:Anniversary
END:VEVENT
BEGIN:VEVENT
DTSTART;TZID=UTC:20231102T180000
DTEND;TZID=UTC:20231102T200000
DTSTAMP:20260423T155704
CREATED:20231030T233919Z
LAST-MODIFIED:20231030T233919Z
UID:580-1698948000-1698955200@www.saintjosephcolumbia.org
SUMMARY:November KofC and Ladies Auxiliary
DESCRIPTION:Monthly Knights of Columbus and Ladies Auxiliary meeting. Dinner is at 6pm\, followed by our monthly meeting. All are welcome to attend.
URL:https://www.saintjosephcolumbia.org/event/november-kofc-and-ladies-auxiliary/
LOCATION:St. Joseph Parish Hall
CATEGORIES:Knights of Columbus
END:VEVENT
BEGIN:VEVENT
DTSTART;TZID=UTC:20231102T090000
DTEND;TZID=UTC:20231102T100000
DTSTAMP:20260423T155704
CREATED:20231030T234202Z
LAST-MODIFIED:20231030T234202Z
UID:586-1698915600-1698919200@www.saintjosephcolumbia.org
SUMMARY:Solemnity of All Souls
DESCRIPTION:Although this is not a Holy Day of Obligation\, Mass is being offered at 9am to celebrate the Solemnity of All Souls.
URL:https://www.saintjosephcolumbia.org/event/solemnity-of-all-souls/
LOCATION:St. Joseph Church
CATEGORIES:Mass
END:VEVENT
BEGIN:VEVENT
DTSTART;TZID=UTC:20231101T090000
DTEND;TZID=UTC:20231101T100000
DTSTAMP:20260423T155704
CREATED:20231030T234053Z
LAST-MODIFIED:20231030T234053Z
UID:583-1698829200-1698832800@www.saintjosephcolumbia.org
SUMMARY:Solemnity of All Saints
DESCRIPTION:On this Holy Day of Obligation\, join us for Mass at 9am
URL:https://www.saintjosephcolumbia.org/event/solemnity-of-all-saints/
LOCATION:St. Joseph Church
CATEGORIES:Mass
END:VEVENT
BEGIN:VEVENT
DTSTART;TZID=UTC:20230709T090000
DTEND;TZID=UTC:20230709T113000
DTSTAMP:20260423T155704
CREATED:20230527T132521Z
LAST-MODIFIED:20230527T132521Z
UID:538-1688893200-1688902200@www.saintjosephcolumbia.org
SUMMARY:Parish Homecoming
DESCRIPTION:The 140th Anniversary Committee is please to host a Parish Homecoming celebration immediately following the 9am Mass. We invite all current and former parishioners to come home to St. Joseph and visit with one another again!
URL:https://www.saintjosephcolumbia.org/event/parish-homecoming/
LOCATION:St. Joseph Parish Hall
CATEGORIES:Anniversary,Mass
END:VEVENT
BEGIN:VEVENT
DTSTART;TZID=UTC:20230706T180000
DTEND;TZID=UTC:20230706T203000
DTSTAMP:20260423T155704
CREATED:20230103T005348Z
LAST-MODIFIED:20230527T134150Z
UID:339-1688666400-1688675400@www.saintjosephcolumbia.org
SUMMARY:KofC/Ladies Auxiliary
DESCRIPTION:The Knights of Columbus Round Table and Ladies Auxilary meet on the first Thursday of each month. Potluck dinner begins at 6pm and meetings begin at 7pm. Come join us and get involved at St. Joseph!
URL:https://www.saintjosephcolumbia.org/event/kofc-ladies-auxiliary/
LOCATION:St. Joseph Parish Hall
CATEGORIES:Knights of Columbus,Ladies Auxilary
END:VEVENT
BEGIN:VEVENT
DTSTART;TZID=UTC:20230702T090000
DTEND;TZID=UTC:20230702T100000
DTSTAMP:20260423T155704
CREATED:20230527T132327Z
LAST-MODIFIED:20230527T132327Z
UID:536-1688288400-1688292000@www.saintjosephcolumbia.org
SUMMARY:RCIA New Member
DESCRIPTION:Join us at Mass on Sunday\, July 2 as we celebrate Vinnie Mason finish his RCIA journey and come into full Communion with the Church! Please pray for Vinnie and his family.
URL:https://www.saintjosephcolumbia.org/event/rcia-new-member/
CATEGORIES:Mass
END:VEVENT
BEGIN:VEVENT
DTSTART;TZID=UTC:20230617T110000
DTEND;TZID=UTC:20230617T160000
DTSTAMP:20260423T155704
CREATED:20230527T131925Z
LAST-MODIFIED:20230527T131925Z
UID:531-1686999600-1687017600@www.saintjosephcolumbia.org
SUMMARY:Parish Picnic
DESCRIPTION:Come for a parish picnic of Barbeque & Brews on Saturday\, June 17 from 11am – 4pm. We’ll have food\, music\, brews\, face painting\, and a kid’s cupcake contest. Make a donation to our World Youth Day pilgrim and meet our new seminarian. See you there! \n 
URL:https://www.saintjosephcolumbia.org/event/parish-picnic/
LOCATION:St. Joseph Parish Hall
CATEGORIES:Fundraiser,Knights of Columbus
END:VEVENT
BEGIN:VEVENT
DTSTART;TZID=UTC:20230611T110000
DTEND;TZID=UTC:20230611T110000
DTSTAMP:20260423T155704
CREATED:20230527T131439Z
LAST-MODIFIED:20230527T131840Z
UID:529-1686481200-1686481200@www.saintjosephcolumbia.org
SUMMARY:Corpus Christi Mass & Procession
DESCRIPTION:We will have Mass at 11:00am followed by a solemn Eucharistic procession in Columbia at noon. All are invited to join us as we give public witness to Christ’s true presence in the Eucharist.
URL:https://www.saintjosephcolumbia.org/event/corpus-christi-mass-procession/
LOCATION:St. Joseph Parish Hall
CATEGORIES:Adoration,Mass
END:VEVENT
BEGIN:VEVENT
DTSTART;TZID=UTC:20230604T103000
DTEND;TZID=UTC:20230604T110000
DTSTAMP:20260423T155704
CREATED:20230527T134325Z
LAST-MODIFIED:20230527T134325Z
UID:547-1685874600-1685876400@www.saintjosephcolumbia.org
SUMMARY:Catechist Meeting
DESCRIPTION:Catechists: We will meet as a CCD team on Sunday June 4 after Mass to discuss the past year and the upcoming year. Thank you for all you do!
URL:https://www.saintjosephcolumbia.org/event/catechist-meeting/
CATEGORIES:CCD
END:VEVENT
BEGIN:VEVENT
DTSTART;TZID=UTC:20230601T180000
DTEND;TZID=UTC:20230601T203000
DTSTAMP:20260423T155704
CREATED:20230527T092218Z
LAST-MODIFIED:20230527T134137Z
UID:486-1685642400-1685651400@www.saintjosephcolumbia.org
SUMMARY:KofC/Ladies Auxiliary
DESCRIPTION:The Knights of Columbus Round Table and Ladies Auxilary meet on the first Thursday of each month. Potluck dinner begins at 6pm and meetings begin at 7pm. Come join us and get involved at St. Joseph!
URL:https://www.saintjosephcolumbia.org/event/kofc-ladies-auxiliary-2/
LOCATION:St. Joseph Parish Hall
CATEGORIES:Knights of Columbus,Ladies Auxilary
END:VEVENT
BEGIN:VEVENT
DTSTART;TZID=UTC:20230423T103000
DTEND;TZID=UTC:20230423T113000
DTSTAMP:20260423T155704
CREATED:20230220T194800Z
LAST-MODIFIED:20230220T194800Z
UID:483-1682245800-1682249400@www.saintjosephcolumbia.org
SUMMARY:Visit Camp Wakeham
DESCRIPTION:Just north of St. Joseph lies Camp Wakeham\, the site pf Wakeham family cemetery. During the 1930s\, the grounds also served as a retreat center for about a dozen years. Join us as we visit the graves of the Wakeham family and other early parish converts who built the parish. Together we will pray the Chapel of Divine Mercy. The walk is about 15 minutes long.\nEmphasis: Praying for the souls of the faithful departed who founded our parish
URL:https://www.saintjosephcolumbia.org/event/visit-camp-wakeham/
CATEGORIES:Anniversary
END:VEVENT
END:VCALENDAR