BEGIN:VCALENDAR
VERSION:2.0
PRODID:-//Saint Joseph Columbia - ECPv6.15.13.1//NONSGML v1.0//EN
CALSCALE:GREGORIAN
METHOD:PUBLISH
X-WR-CALNAME:Saint Joseph Columbia
X-ORIGINAL-URL:https://www.saintjosephcolumbia.org
X-WR-CALDESC:Events for Saint Joseph Columbia
REFRESH-INTERVAL;VALUE=DURATION:PT1H
X-Robots-Tag:noindex
X-PUBLISHED-TTL:PT1H
BEGIN:VTIMEZONE
TZID:UTC
BEGIN:STANDARD
TZOFFSETFROM:+0000
TZOFFSETTO:+0000
TZNAME:UTC
DTSTART:20220101T000000
END:STANDARD
END:VTIMEZONE
BEGIN:VEVENT
DTSTART;TZID=UTC:20231209T163000
DTEND;TZID=UTC:20231209T210000
DTSTAMP:20260423T213745
CREATED:20231030T235111Z
LAST-MODIFIED:20231030T235111Z
UID:594-1702139400-1702155600@www.saintjosephcolumbia.org
SUMMARY:Our Lady of Guadalupe Celebration + 140th Anniversary
DESCRIPTION:Our yearly Our Lady of Guadalupe celebration. This year the 140 anniversary committee is joining with the St. Joseph Hispanic community to help make this the biggest celebration yet! Gather for the rosary at 4:30pm\, followed by Mass at 5pm and then a marvelous feast of traditional foods. Join us on this Feast of Juan Diego as we honor Our Lady of Guadalupe\, Patroness of the Americas.
URL:https://www.saintjosephcolumbia.org/event/our-lady-of-guadalupe-celebration-140th-anniversary/
LOCATION:St. Joseph Parish Hall
CATEGORIES:Anniversary,Mass
END:VEVENT
BEGIN:VEVENT
DTSTART;TZID=UTC:20231208T080000
DTEND;TZID=UTC:20231208T170000
DTSTAMP:20260423T213745
CREATED:20231030T235153Z
LAST-MODIFIED:20231030T235153Z
UID:596-1702022400-1702054800@www.saintjosephcolumbia.org
SUMMARY:Solemnity of the Immaculate Conception
DESCRIPTION:On this Holy Day of Obligation\, Mass will be at 9am.
URL:https://www.saintjosephcolumbia.org/event/solemnity-of-the-immaculate-conception/
LOCATION:St. Joseph Church
CATEGORIES:Mass
END:VEVENT
BEGIN:VEVENT
DTSTART;TZID=UTC:20231102T090000
DTEND;TZID=UTC:20231102T100000
DTSTAMP:20260423T213745
CREATED:20231030T234202Z
LAST-MODIFIED:20231030T234202Z
UID:586-1698915600-1698919200@www.saintjosephcolumbia.org
SUMMARY:Solemnity of All Souls
DESCRIPTION:Although this is not a Holy Day of Obligation\, Mass is being offered at 9am to celebrate the Solemnity of All Souls.
URL:https://www.saintjosephcolumbia.org/event/solemnity-of-all-souls/
LOCATION:St. Joseph Church
CATEGORIES:Mass
END:VEVENT
BEGIN:VEVENT
DTSTART;TZID=UTC:20231101T090000
DTEND;TZID=UTC:20231101T100000
DTSTAMP:20260423T213745
CREATED:20231030T234053Z
LAST-MODIFIED:20231030T234053Z
UID:583-1698829200-1698832800@www.saintjosephcolumbia.org
SUMMARY:Solemnity of All Saints
DESCRIPTION:On this Holy Day of Obligation\, join us for Mass at 9am
URL:https://www.saintjosephcolumbia.org/event/solemnity-of-all-saints/
LOCATION:St. Joseph Church
CATEGORIES:Mass
END:VEVENT
BEGIN:VEVENT
DTSTART;TZID=UTC:20230709T090000
DTEND;TZID=UTC:20230709T113000
DTSTAMP:20260423T213745
CREATED:20230527T132521Z
LAST-MODIFIED:20230527T132521Z
UID:538-1688893200-1688902200@www.saintjosephcolumbia.org
SUMMARY:Parish Homecoming
DESCRIPTION:The 140th Anniversary Committee is please to host a Parish Homecoming celebration immediately following the 9am Mass. We invite all current and former parishioners to come home to St. Joseph and visit with one another again!
URL:https://www.saintjosephcolumbia.org/event/parish-homecoming/
LOCATION:St. Joseph Parish Hall
CATEGORIES:Anniversary,Mass
END:VEVENT
BEGIN:VEVENT
DTSTART;TZID=UTC:20230702T090000
DTEND;TZID=UTC:20230702T100000
DTSTAMP:20260423T213745
CREATED:20230527T132327Z
LAST-MODIFIED:20230527T132327Z
UID:536-1688288400-1688292000@www.saintjosephcolumbia.org
SUMMARY:RCIA New Member
DESCRIPTION:Join us at Mass on Sunday\, July 2 as we celebrate Vinnie Mason finish his RCIA journey and come into full Communion with the Church! Please pray for Vinnie and his family.
URL:https://www.saintjosephcolumbia.org/event/rcia-new-member/
CATEGORIES:Mass
END:VEVENT
BEGIN:VEVENT
DTSTART;TZID=UTC:20230611T110000
DTEND;TZID=UTC:20230611T110000
DTSTAMP:20260423T213745
CREATED:20230527T131439Z
LAST-MODIFIED:20230527T131840Z
UID:529-1686481200-1686481200@www.saintjosephcolumbia.org
SUMMARY:Corpus Christi Mass & Procession
DESCRIPTION:We will have Mass at 11:00am followed by a solemn Eucharistic procession in Columbia at noon. All are invited to join us as we give public witness to Christ’s true presence in the Eucharist.
URL:https://www.saintjosephcolumbia.org/event/corpus-christi-mass-procession/
LOCATION:St. Joseph Parish Hall
CATEGORIES:Adoration,Mass
END:VEVENT
END:VCALENDAR