BEGIN:VCALENDAR
VERSION:2.0
PRODID:-//Saint Joseph Columbia - ECPv6.15.13.1//NONSGML v1.0//EN
CALSCALE:GREGORIAN
METHOD:PUBLISH
X-ORIGINAL-URL:https://www.saintjosephcolumbia.org
X-WR-CALDESC:Events for Saint Joseph Columbia
REFRESH-INTERVAL;VALUE=DURATION:PT1H
X-Robots-Tag:noindex
X-PUBLISHED-TTL:PT1H
BEGIN:VTIMEZONE
TZID:UTC
BEGIN:STANDARD
TZOFFSETFROM:+0000
TZOFFSETTO:+0000
TZNAME:UTC
DTSTART:20220101T000000
END:STANDARD
END:VTIMEZONE
BEGIN:VEVENT
DTSTART;TZID=UTC:20251009T093000
DTEND;TZID=UTC:20251009T120000
DTSTAMP:20260423T185243
CREATED:20251002T014255Z
LAST-MODIFIED:20251002T014255Z
UID:697-1760002200-1760011200@www.saintjosephcolumbia.org
SUMMARY:St. Joseph Homeschool Group
DESCRIPTION:The homeschool group will meet at 9:30am in the Parish Hall. The theme of the day is Saints. See you then!
URL:https://www.saintjosephcolumbia.org/event/st-joseph-homeschool-group/
LOCATION:St. Joseph Parish Hall
CATEGORIES:Fellowship
END:VEVENT
BEGIN:VEVENT
DTSTART;TZID=UTC:20231217T100000
DTEND;TZID=UTC:20231217T113000
DTSTAMP:20260423T185243
CREATED:20231030T235754Z
LAST-MODIFIED:20231030T235754Z
UID:600-1702807200-1702812600@www.saintjosephcolumbia.org
SUMMARY:Christmas Brunch and CCD Presentation
DESCRIPTION:Our favorit yearly parish potluck brunch and CCD event. Bring a dish to share and join together to celebrate the upcoming Nativity of our Lord. Feasting begins immediately after the 9am Mass.
URL:https://www.saintjosephcolumbia.org/event/christmas-brunch-and-ccd-presentation/
LOCATION:St. Joseph Parish Hall
CATEGORIES:Fellowship
END:VEVENT
BEGIN:VEVENT
DTSTART;TZID=UTC:20231210T140000
DTEND;TZID=UTC:20231210T153000
DTSTAMP:20260423T185243
CREATED:20231030T235421Z
LAST-MODIFIED:20231030T235421Z
UID:598-1702216800-1702222200@www.saintjosephcolumbia.org
SUMMARY:Joint Parish Lessons & Carols
DESCRIPTION:Each year our two parishes join together in the Christmas spirit as we host a traditional Lessons & Carols event. Come with the family to Saints Peter & Paul for singing\, feasting\, and fellowship.
URL:https://www.saintjosephcolumbia.org/event/joint-parish-lessons-carols/
LOCATION:Saints Peter & Paul
CATEGORIES:Fellowship
END:VEVENT
END:VCALENDAR